Workbook

Sheet Financial Statement to 31-03-26
A1: Financial Statement
A2: Period 1st April 2025 - 31st March 2026 | F2: Period 1st April 2024 - 31st March 2025
A3: Cash Position @ 1st April 2024 | F3: Previous | G3: Difference | H3: Change
A4: Cash Held by Group | D4: ='April 25'!B5 -> 935.12 | F4: 990.47 | G4: =D4-F4 -> -55.35 | H4: =G4/F4 -> -0.055882561
A5: BoS Acc No 25567365 | D5: ='April 25'!C5 -> 5716.93 | F5: 6320.79 | G5: =D34-F5 -> -4055.93 | H5: =G5/F5 -> -0.64168087
A6: BoS Acc No 26640766 | D6: ='April 25'!D5 -> 5929.99 | F6: 12717.76 | G6: =D35-F6 -> 7050.67 | H6: =G6/F6 -> 0.55439559
A7: Cash Position @ 1st April 2024 | E7: =SUM(D4:D6) -> 12582.04 | F7: =SUM(F4:F6) -> 20029.02 | G7: =SUM(G4:G6) -> 2939.39 | H7: =G7/F7 -> 0.14675656
A8: Income to 31/03/25
A9: Subscriptions | B9: ='April 25'!C8+'May25'!C8+'June 25'!C8+'July 25'!C8+'Aug 25'!C8+'Sept 25'!C8+'Oct 25'!C8+'Nov 25'!C8+'Dec 25'!C8+'Jan 26'!C8+'Feb 26'!C8+'March 26'!C8 -> 5127 | F9: 4985.15 | G9: =B9-F9 -> 141.85 | H9: =G9/F9 -> 0.02845451
A10: Chipmunks | B10: ='April 25'!B9+'May25'!B9+'June 25'!B9+'July 25'!B9+'Aug 25'!B9+'Sept 25'!B9+'Oct 25'!B9+'Nov 25'!B9+'Dec 25'!B9+'Jan 26'!B9+'Feb 26'!B9+'March 26'!B9 -> 459.02 | F10: 256 | H10: =G10/F10 -> 0
A11: Beavers | B11: ='April 25'!B10+'May25'!B10+'June 25'!B10+'July 25'!B10+'Aug 25'!B10+'Sept 25'!B10+'Oct 25'!B10+'Nov 25'!B10+'Dec 25'!B10+'Jan 26'!B10+'Feb 26'!B10+'March 26'!B10 -> 638.25 | F11: 706 | G11: =B11-F11 -> -67.75 | H11: =G11/F11 -> -0.095963173
A12: Cubs | B12: ='April 25'!B11+'May25'!B11+'June 25'!B11+'July 25'!B11+'Aug 25'!B11+'Sept 25'!B11+'Oct 25'!B11+'Nov 25'!B11+'Dec 25'!B11+'Jan 26'!B11+'Feb 26'!B11+'March 26'!B11 -> 766.72 | F12: 564 | G12: =B12-F12 -> 202.72 | H12: =G12/F12 -> 0.35943262
A13: Scouts & Explorers | B13: ='April 25'!B12+'May25'!B12+'June 25'!B12+'July 25'!B12+'Aug 25'!B12+'Sept 25'!B12+'Oct 25'!B12+'Nov 25'!B12+'Dec 25'!B12+'Jan 26'!B12+'Feb 26'!B12+'March 26'!B12 -> 576.75 | F13: 956 | G13: =B13-F13 -> -379.25 | H13: =G13/F13 -> -0.39670502
B14: =SUM(B9:B13) -> 7567.74 | F14: =SUM(F9:F13) -> 7467.15 | G14: =B14-F14 -> 100.59 | H14: =G14/F14 -> 0.013471003
A15: Hall Hire | C15: ='Oct 25'!B16+'Oct 25'!D17+'Nov 25'!D15+'Dec 25'!D16+'Jan 26'!B15+'Jan 26'!D16+'Feb 26'!B16+'Feb 26'!D15+'March 26'!B15+'March 26'!D16 -> 2367.5 | F15: 2548 | G15: =C15-F15 -> -180.5
A16: Fund Raising Events | C16: ='June 25'!D14+'July 25'!D14 -> 3547.57 | F16: 5616.35 | G16: =C16-F16 -> -2068.78 | H16: =G16/F16 -> -0.36834955
A17: Section Events | C17: ='Oct 25'!B14+'Dec 25'!B14 -> 465 | F17: =-F17 -> 0 | G17: =C17-F17 -> 0
A18: Donations | F18: 0 | G18: =C18-F18 -> 0
A19: Interest | F19: 111.63 | G19: =C19-F19 -> -111.63 | H19: =G19/F19 -> -1
A20: Insurance | C20: ='April 25'!D16+'April 25'!D17+'May25'!D16+'July 25'!D17+'Oct 25'!D19 -> 75793.4 | F20: 0 | G20: =C20-F20 -> 75793.4
A21: Total Income | C21: =SUM(B14:C20) -> 89741.21 | F21: 15742.13 | G21: =C21-F21 -> 73999.08 | H21: =G21/F21 -> 4.7007031
A22: Expenses
A23: Running Costs | C23: ='April 25'!C23+'May25'!C23+'May25'!C24+'June 25'!C22+'July 25'!C22+'July 25'!D25+'July 25'!D26+'July 25'!D27+'Aug 25'!C19+'Aug 25'!C20+'Aug 25'!B22+'Aug 25'!C23+'Sept 25'!C20+'Oct 25'!C25+'Oct 25'!D27+'Oct 25'!B28+'Nov 25'!C21+'Nov 25'!C22+'Nov 25'!C23+'Dec 25'!C22+'Jan 26'!C22+'Jan 26'!D23+'Feb 26'!C23+'Feb 26'!C24+'Feb 26'!C25+'Feb 26'!D25+'Feb 26'!B27+'Feb 26'!B28+'March 26'!B22+'March 26'!C23+'March 26'!D25+'Aug 25'!D34 -> -68986.33 | F23: -11898.51 | G23: =C23-F23 -> -57087.82 | H23: =G23/F23 -> 4.7978965
A24: Scout Council | C24: ='March 26'!C24 -> -3885 | F24: -2707.5 | G24: =C24-F24 -> -1177.5 | H24: =G24/F24 -> 0.43490305
A25: Scout Insurance | C25: ='July 25'!C23 -> -2269.83 | F25: -1710.36 | G25: =C25-F25 -> -559.47 | H25: =G25/F25 -> 0.32710657
A26: Section Expenses | C26: ='April 25'!C25+'April 25'!C26+'April 25'!C27+'Dec 25'!B25+'Dec 25'!C27+'March 26'!C30+'March 26'!B32 -> -676.47 | F26: -3068.05 | G26: =C26-F26 -> 2391.58 | H26: =G26/F26 -> -0.77951142
A27: Fund Raising Events | C27: ='April 25'!C30+'May25'!B27+'May25'!C28+'Oct 25'!D30+'Oct 25'!B31 -> -2931.29 | F27: -2593 | G27: =C27-F27 -> -338.29 | H27: =G27/F27 -> 0.13046278
A28: Stock Purchases | C28: ='April 25'!B32+'April 25'!B33+'April 25'!B34+'July 25'!B30+'July 25'!B31+'July 25'!B32+'Aug 25'!C26+'Aug 25'!B27+'Aug 25'!B28+'Aug 25'!B29+'Aug 25'!B30+'Aug 25'!B31+'Aug 25'!B32+'Sept 25'!B24+'Sept 25'!B25+'Sept 25'!B26+'Sept 25'!B27+'Nov 25'!B27+'Nov 25'!B28+'Nov 25'!B29+'Nov 25'!B30+'Dec 25'!B28+'Dec 25'!B29+'Jan 26'!B27+'Jan 26'!B28+'Jan 26'!B29+'Jan 26'!B30+'Jan 26'!B31+'Jan 26'!B32+'Jan 26'!B33+'Feb 26'!B31+'Feb 26'!B32+'Feb 26'!B33+'March 26'!B29+'March 26'!B31+'March 26'!B33+'March 26'!B34+'March 26'!B35+'March 26'!B36+'March 26'!B37+'March 26'!B38+'March 26'!B39 -> -521.35 | F28: -1211.69 | G28: =C28-F28 -> 690.34 | H28: =G28/F28 -> -0.56973318
C29: =SUM(C23:C28) -> -79270.27 | F29: =SUM(F23:F28) -> -23189.11 | G29: =C29-F29 -> -56081.16 | H29: =G29/F29 -> 2.4184266
F30: 0 | G30: =D30-F30 -> 0
A31: Total Expenditure | D31: =C29+D30 -> -79270.27
A32: Cash position @ 31/03/26
A33: Cash Held by Group | D33: ='March 26'!B47 -> 1019.69 | F33: 935.12 | G33: =D33-F33 -> 84.57 | H33: =G33/F33 -> 0.090437591
A34: BoS Acc No 25567365 | D34: ='March 26'!C47 -> 2264.86 | F34: 5716.93 | G34: =D34-F34 -> -3452.07 | H34: =G34/F34 -> -0.60383283
A35: BoS Acc No 26640766 | D35: ='March 26'!D47 -> 19768.43 | F35: 5929.99 | G35: =D35-F35 -> 13838.44 | H35: =G35/F35 -> 2.3336363
A36: Cash Position @ 31st March 2026 | E36: =SUM(D33:D35) -> 23052.98
A37: Assets
A38: Scout Hall/Land | B38: Secured with TSA Loan | C38: -50000
A39: Main Road, Elderslie
A40: Summary
...

Sheet April 25
A2: 1st Elderslie Scout Troop - Financial Tracker
B3: April
B4: Cash Account | C4: BoS 25567365 | D4: BoS 26640766
A5: Balance B/F | B5: 935.12 | C5: 5716.93 | D5: 5929.99
A7: INCOME
A8: Club Subscriptions | C8: 332
A9: Squirrels | B9: 24
A10: Beavers | B10: 40
A11: Cubs
A12: Scouts & Explorers | B12: 48
A13: Events
A14: Hall Hire
A15: Hall
A16: Aviva Insurance | D16: 1110
A17: Aviva Insurance | D17: 5671.4
A18: Donations
A19: Cash Banked | C19: 600 | J19: `
A20: Interest
A21: EXPENDITURE
A22: Hall Expenses
A23: Scottish Power | C23: -259.01
A24: Hall Hire
A25: Renfrewshire Council | C25: -52.5
A26: Renfrewshire Council | C26: -35
A27: East Gate Church | C27: -160
A28: Maintainance
A29: Event Expenses
A30: Wallace Primary School | C30: -50
A31: Stock Purchases
A32: Nisa | B32: -11.05
A33: B&M | B33: -13
A34: Hobbycraft | B34: -13.85
A35: Cash Banked
A36: Cash Withdrawn | B36: -600
A37: SUB-TOTALS
A38: Income | B38: =SUM(B8:B20) -> 112 | C38: =SUM(C8:C20) -> 932 | D38: =SUM(D8:D19) -> 6781.4
A39: Expenditure | B39: =SUM(B22:B36) -> -637.9 | C39: =SUM(C22:C36) -> -556.51 | D39: =SUM(D23:D28) -> 0
A40: Difference | B40: =SUM(B38:B39) -> -525.9 | C40: =SUM(C38:C39) -> 375.49 | D40: =SUM(D38:D39) -> 6781.4
A43: BALANCE CARRIED FORWARD | B43: =SUM(B40+B5) -> 409.22 | C43: =SUM(C40+C5) -> 6092.42 | D43: =SUM(D40+D5) -> 12711.39
A44: CASH RESERVE / MONTH

Sheet May25
A2: 1st Elderslie Scout Troop - Financial Tracker
B3: May
B4: Cash Account | C4: BoS 25567365 | D4: BoS 26640766
A5: Balance B/F | B5: ='April 25'!$B$43 -> 409.22 | C5: ='April 25'!$C$43 -> 6092.42 | D5: ='April 25'!$D$43 -> 12711.39
A7: INCOME
A8: Club Subscriptions | C8: 409
A9: Squirrels | B9: 32
A10: Beavers | B10: 48
A11: Cubs
A12: Scouts & Explorers | B12: 60
A13: Events
A14: Hall Hire
A15: Hall
A16: Aviva Insurance | D16: 54000
A17: Aviva Insurance
A18: Donations
A19: Adjustments
A20: Cash Banked
A21: EXPENDITURE
A22: Hall Expenses
A23: Scottish Power | C23: -259.01
A24: BT Group | C24: -36.27
A25: Maintainance
A26: Event Expenses
A27: Coffee Shop | B27: -33.2
A28: Plant Sale | C28: -2397.49
A29: Stock Purchases
A30: Cash Banked
A31: SUB-TOTALS
A32: Income | B32: =SUM(B8:B19) -> 140 | C32: =SUM(C8:C20) -> 409 | D32: =SUM(D8:D19) -> 54000
A33: Expenditure | B33: =SUM(B22:B30) -> -33.2 | C33: =SUM(C22:C30) -> -2692.77 | D33: =SUM(D22:D30) -> 0
A34: Difference | B34: =SUM(B32:B33) -> 106.8 | C34: =SUM(C32:C33) -> -2283.77 | D34: =SUM(D32:D33) -> 54000
A37: BALANCE CARRIED FORWARD | B37: =SUM(B34+B5) -> 516.02 | C37: =SUM(C5+C34) -> 3808.65 | D37: =SUM(D5+D34) -> 66711.39
A38: CASH RESERVE / MONTH
F55: `

Sheet June 25
A2: 1st Elderslie Scout Troop - Financial Tracker
B3: June
B4: Cash Account | C4: BoS 25567365 | D4: BoS 26640766
A5: Balance B/F | B5: ='May25'!$B$37 -> 516.02 | C5: ='May25'!$C$37 -> 3808.65 | D5: ='May25'!$D$37 -> 66711.39
A7: INCOME
A8: Club Subscriptions | C8: 380
A9: Squirrels | B9: 24
A10: Beavers | B10: 36
A11: Cubs | B11: 100
A12: Scouts & Explorers
A13: Events
A14: Plant Sale | D14: 122.5
A15: Hall Hire
A16: Donations
A17: Adjustments
A18: Cash Banked
A19: EXPENDITURE
A20: Scout Insurance
A21: Hall Expenses
A22: Scottish Power | C22: -259.01
A23: Hall Hire
A24: Maintainance
A25: Event Expenses
A26: Stock Purchases
A27: Cash Banked
A28: SUB-TOTALS
A29: Income | B29: =SUM(B8:B18) -> 160 | C29: =SUM(C8:C18) -> 380 | D29: =SUM(D8:D18) -> 122.5
A30: Expenditure | B30: =SUM(B20:B26,B27) -> 0 | C30: =SUM(C20:C27) -> -259.01 | D30: =SUM(D20:D27) -> 0
A31: Difference | B31: =SUM(B29:B30) -> 160 | C31: =SUM(C29:C30) -> 120.99 | D31: =SUM(D29:D30) -> 122.5
A34: BALANCE CARRIED FORWARD | B34: =SUM(B31+B5) -> 676.02 | C34: =SUM(C31+C5) -> 3929.64 | D34: =SUM(D31+D5) -> 66833.89
A35: CASH RESERVE / MONTH

Sheet July 25
A2: 1st Elderslie Scout Troop - Financial Tracker
B3: July
B4: Cash Account | C4: BoS 25567365 | D4: BoS 26640766
A5: Balance B/F | B5: ='June 25'!$B$34 -> 676.02 | C5: ='June 25'!$C$34 -> 3929.64 | D5: ='June 25'!$D$34 -> 66833.89
A7: INCOME
A8: Club Subscriptions | C8: 166
A9: Squirrels
A10: Beavers
A11: Cubs | B11: 86
A12: Scouts & Explorers
A13: Events
A14: Plant Sale | D14: 3425.07
A15: Hall Hire
A16: Hall
A17: Aviva Insurance | D17: 9564.48
A18: Adjustments
A19: Cash Banked | C19: 345
A20: EXPENDITURE
A21: Hall Expenses
A22: Scottish Power | C22: -259.01
A23: Scout Insurance | C23: -2269.83
A24: Maintainance
A25: Abercorn Builders | D25: -23898.72
A26: Abercorn Builders | D26: -22796.16
A27: Abercorn Builders | D27: -672
A28: Event Expenses
A29: Stock Purchases
A30: B&Q | B30: -18
A31: Timpson | B31: -40
A32: HMV | B32: -11.99
A33: Cash Banked | B33: -345
A34: SUB-TOTALS
A35: Income | B35: =SUM(B8:B19) -> 86 | C35: =SUM(C8:C19) -> 511 | D35: =SUM(D8:D19) -> 12989.55
A36: Expenditure | B36: =SUM(B21:B33) -> -414.99 | C36: =SUM(C21:C33) -> -2528.84 | D36: =SUM(D21:D33) -> -47366.88
A37: Difference | B37: =SUM(B35:B36) -> -328.99 | C37: =SUM(C35:C36) -> -2017.84 | D37: =SUM(D35:D36) -> -34377.33
A40: BALANCE CARRIED FORWARD | B40: =SUM(B37+B5) -> 347.03 | C40: =SUM(C37+C5) -> 1911.8 | D40: =SUM(D37+D5) -> 32456.56
A41: CASH RESERVE / MONTH

Sheet Aug 25
A2: 1st Elderslie Scout Troop - Financial Tracker
B3: August
B4: Cash Account | C4: BoS 25567365 | D4: BoS 26640766
A5: Balance B/F | B5: ='July 25'!$B$40 -> 347.03 | C5: ='July 25'!$C$40 -> 1911.8 | D5: ='July 25'!$D$40 -> 32456.56
A7: INCOME
A8: Club Subscriptions | C8: 260
A9: Squirrels | B9: 8
A10: Beavers | B10: 8
A11: Cubs | B11: 16
A12: Scouts & Explorers
A13: Events
A14: Hall Hire
A15: Donations
A16: Adjustments
A17: EXPENDITURE
A18: Hall Expenses
A19: Scottish Power | C19: -2
A20: BT Group | C20: -36.74
A21: Maintainance
A22: B&Q | B22: -71.31
A23: B&Q | C23: -75.65
A24: Event Expenses
A25: Stock Purchases
A26: Amazon | C26: -15.18
A27: B&M | B27: -25.38
A28: B&M | B28: -48.47
A29: B&M | B29: -35.77
A30: Hobbycraft | B30: -7.2
A31: Home Bargains | B31: -12.76
A32: B&M | B32: 12.79
A33: Hall Hire
A34: Renfrewshire Model Railway Club | D34: -1500
A35: Cash Banked
A36: SUB-TOTALS
A37: Income | B37: =SUM(B9:B16) -> 32 | C37: =SUM(C8:C16) -> 260 | D37: =SUM(D8:D16) -> 0
A38: Expenditure | B38: =SUM(B18:B35) -> -188.1 | C38: =SUM(C18:C35) -> -129.57 | D38: =SUM(D18:D35) -> -1500
A39: Difference | B39: =SUM(B37:B38) -> -156.1 | C39: =SUM(C37:C38) -> 130.43 | D39: =SUM(D37:D38) -> -1500
A42: BALANCE CARRIED FORWARD | B42: =SUM(B39,B5) -> 190.93 | C42: =SUM(C39+C5) -> 2042.23 | D42: =SUM(D39+D5) -> 30956.56
A43: CASH RESERVE / MONTH

Sheet Sept 23
A2: 1st Elderslie Scout Troop - Financial Tracker
B3: September
B4: Cash Account | C4: BoS 25567365 | D4: RBS 00617959
A5: Balance B/F | B5: ='Aug 25'!$B$42 -> 190.93 | C5: ='Aug 25'!$C$42 -> 2042.23 | D5: ='Aug 25'!$D$42 -> 30956.56
A7: INCOME
A8: Club Subscriptions | C8: 496.15
A9: Chipmunks | B9: 80
A10: Beavers | B10: 110
A11: Cubs | B11: 112
A12: Scouts& Explorers | B12: 152
A13: Events
A14: Camp | D14: 15
A15: Hall Hire
A16: AA | B16: 90
A17: Arcu Fit | D17: 228
A18: Football Training | D18: 132
A19: Hall Hire - Nicola Jackson | D19: 15
A20: Donations
A21: Adjustments
A22: Interest | D22: 38.98
A23: Cash Banked
A24: EXPENDITURE
A25: Hall Expenses
A26: Scottish Power | C26: -323.77
A27: Renfrewshire Leisure | C27: -75.5
A28: Maintainance
A29: Event Expenses
A30: Cubs Camp | C30: -80
A31: Stock Purchases
A32: Scout Shop | B32: -183.2
A33: Aldi | B33: -8.16 | F33: =+F17 -> 0
A34: Home Bargains | B34: -18.53
A35: Elderslie Butchers | B35: -8.8
A36: Elderslie Butchers | B36: -8
A37: Jim's Food & Wine | B37: -1.6
A38: Cash Banked
A39: SUB-TOTALS
A40: Income | B40: =SUM(B8:B23) -> 544 | C40: =SUM(C8:C23) -> 496.15 | D40: =SUM(D8:D23) -> 428.98
A41: Expenditure | B41: =SUM(B25:B38) -> -228.29 | C41: =SUM(C25:C38) -> -479.27 | D41: =SUM(D25:D38) -> 0
A42: Difference | B42: =SUM(B40:B41) -> 315.71 | C42: =SUM(C40:C41) -> 16.88 | D42: =SUM(D40:D41) -> 428.98
...

Sheet Sept 25
A2: 1st Elderslie Scout Troop - Financial Tracker
B3: August
B4: Cash Account | C4: BoS 25567365 | D4: BoS 26640766
A5: Balance B/F | B5: ='Aug 25'!B42 -> 190.93 | C5: ='Aug 25'!C42 -> 2042.23 | D5: ='Aug 25'!D42 -> 30956.56
A7: INCOME
A8: Club Subscriptions | C8: 544
A9: Squirrels | B9: 66
A10: Beavers | B10: 97
A11: Cubs | B11: 93
A12: Scouts & Explorers | B12: 73
A13: Events
A14: Hall Hire
A15: Donations
A16: Adjustments
A17: Cash Banked
A18: EXPENDITURE
A19: Hall Expenses
A20: Scottish Power | C20: -2
A21: Maintainance
A22: Event Expenses
A23: Stock Purchases
A24: Tesco | B24: -12.8
A25: Home Bargains | B25: -3.77
A26: Hobbycraft | B26: -15.57
A27: Asda | B27: -7.02
A28: Cash Banked
A29: SUB-TOTALS
A30: Income | B30: =SUM(B9:B16) -> 329 | C30: =SUM(C8:C17) -> 544 | D30: =SUM(D8:D17) -> 0
A31: Expenditure | B31: =SUM(B19:B28) -> -39.16 | C31: =SUM(C19:C23) -> -2 | D31: =SUM(D19:D28) -> 0
A32: Difference | B32: =SUM(B30:B31) -> 289.84 | C32: =SUM(C30:C31) -> 542 | D32: =SUM(D30:D31) -> 0
A35: BALANCE CARRIED FORWARD | B35: =SUM(B32,B5) -> 480.77 | C35: =SUM(C32+C5) -> 2584.23 | D35: =SUM(D32+D5) -> 30956.56
A36: CASH RESERVE / MONTH
A41: **Changed bank on 09/09/24 to BoS 26640766

Sheet Oct 25
A2: 1st Elderslie Scout Troop - Financial Tracker
B3: October
B4: Cash Account | C4: BoS 25567365 | D4: BoS 26640766
A5: Balance B/F | B5: ='Sept 25'!B35 -> 480.77 | C5: ='Sept 25'!C35 -> 2584.23 | D5: ='Sept 25'!D35 -> 30956.56
A7: INCOME
A8: Club Subscriptions | C8: 532
A9: Squirrels | B9: 65
A10: Beavers | B10: 120
A11: Cubs | B11: 132
A12: Scouts & Explorers | B12: 70
A13: Events
A14: Fordbank Scouts - Flipout Sleepover | B14: 365
A15: Hall Hire
A16: Party | B16: 90
A17: Ergo Fitness - Arcu Fit | D17: 457.5
A18: Hall
A19: Aviva Insurance | D19: 5447.52
A20: Donations
A21: Adjustments
A22: Cash Banked | C22: 715
A23: EXPENDITURE
A24: Hall Expenses
A25: Scottish Power | C25: -2
A26: Maintainance
A27: Abercorn Builders | D27: -18338.4
A28: Door Signs | B28: -50.05
A29: Event Expenses
A30: Fordbank Scouts - Flipout Sleepover | D30: -407
A31: Poppy Wreath | B31: -43.6
A32: Cash Banked | B32: -715
A34: Income | B34: =SUM(B8:B22) -> 842 | C34: =SUM(C8:C22) -> 1247 | D34: =SUM(D8:D23) -> 5905.02
A35: Expenditure | B35: =SUM(B24:B32) -> -808.65 | C35: =SUM(C24:C31) -> -2 | D35: =SUM(D24:D31) -> -18745.4
A36: Difference | B36: =SUM(B34:B35) -> 33.35 | C36: =SUM(C34:C35) -> 1245 | D36: =SUM(D34:D35) -> -12840.38
A39: BALANCE CARRIED FORWARD | B39: =SUM(B36+B5) -> 514.12 | C39: =SUM(C36+C5) -> 3829.23 | D39: =SUM(D36+D5) -> 18116.18
A40: CASH RESERVE / MONTH

Sheet Nov 25
A2: 1st Elderslie Scout Troop - Financial Tracker
B3: November
B4: Cash Account | C4: BoS 25567365 | D4: BoS 26640766
A5: Balance B/F | B5: ='Oct 25'!$B$39 -> 514.12 | C5: ='Oct 25'!$C$39 -> 3829.23 | D5: ='Oct 25'!$D$39 -> 18116.18
A7: INCOME
A8: Club Subscriptions | C8: 415
A9: Squirrels | B9: 101.02
A10: Beavers | B10: 114.25
A11: Cubs | B11: 115
A12: Scouts & Explorers | B12: 56
A13: Events
A14: Hall Hire
A15: Ergo Fitness - Arcu Fit | D15: 360
A16: Donations
A17: Adjustments
A18: Cash Banked
A19: EXPENDITURE
A20: Hall Expenses
A21: Scottish Power | C21: -2
A22: BT Group | C22: -36.27
A23: Renfrewshire Council | C23: -45.5
A24: Maintainance
A25: Event Expenses
A26: Stock Purchases
A27: Timpson | B27: -30
A28: B&M | B28: -5.75
A29: Jims Food and Wine | B29: -3.44
A30: Jims Food and Wine | B30: -2.29
A31: Cash Banked
A32: SUB-TOTALS
A33: Income | B33: =SUM(B8:B18) -> 386.27 | C33: =SUM(C8:C18) -> 415 | D33: =SUM(D8:D19) -> 360
A34: Expenditure | B34: =SUM(B20:B31) -> -41.48 | C34: =SUM(C20:C31) -> -83.77 | D34: =SUM(D20:D31) -> 0
A35: Difference | B35: =SUM(B33:B34) -> 344.79 | C35: =SUM(C33:C34) -> 331.23 | D35: =SUM(D33:D34) -> 360
A38: BALANCE CARRIED FORWARD | B38: =SUM(B35+B5) -> 858.91 | C38: =SUM(C35+C5) -> 4160.46 | D38: =SUM(D35+D5) -> 18476.18
A39: CASH RESERVE / MONTH

Sheet Dec 25
A2: 1st Elderslie Scout Troop - Financial Tracker
B3: December
B4: Cash Account | C4: BoS 25567365 | D4: BoS 26640766
A5: Balance B/F | B5: ='Nov 25'!$B$38 -> 858.91 | C5: ='Nov 25'!$C$38 -> 4160.46 | D5: ='Nov 25'!$D$38 -> 18476.18
A7: INCOME
A8: Club Subscriptions | C8: 503.5
A9: Squirrels | B9: 36
A10: Beavers | B10: 31
A11: Cubs | B11: 58.7
A12: Scouts & Explorers | B12: 56
A13: Events
A14: Movie Afternoon | B14: 100
A15: Hall Hire
A16: Arcu Fit | D16: 330
A17: Donations
A18: Adjustments
A19: Cash Banked | C19: 306.35
A20: EXPENDITURE
A21: Hall Expenses
A22: Scottish Power | C22: -2
A23: Maintainance
A24: Event Expenses
A25: Domino's Pizza | B25: -60
A26: Stock Purchases
A27: John Craft - supplies | C27: -278.87
A28: Sainsburys | B28: -2.7
A29: Morrisons | B29: -11
A30: Cash Banked | B30: -306.35
A31: SUB-TOTALS
A32: Income | B32: =SUM(B8:B18) -> 281.7 | C32: =SUM(C8:C19) -> 809.85 | D32: =SUM(D8:D18) -> 330
A33: Expenditure | B33: =SUM(B21:B30) -> -380.05 | C33: =SUM(C21:C29) -> -280.87 | D33: =SUM(D21:D29) -> 0
A34: Difference | B34: =SUM(B32:B33) -> -98.35 | C34: =SUM(C32:C33) -> 528.98 | D34: =SUM(D32:D33) -> 330
A37: BALANCE CARRIED FORWARD | B37: =SUM(B34+B5) -> 760.56 | C37: =SUM(C34+C5) -> 4689.44 | D37: =SUM(D34+D5) -> 18806.18
A38: CASH RESERVE / MONTH

Sheet Jan 26
A2: 1st Elderslie Scout Troop - Financial Tracker
B3: January
B4: Cash Account | C4: BoS 25567365 | D4: BoS 26640766
A5: Balance B/F | B5: ='Dec 25'!$B$37 -> 760.56 | C5: ='Dec 25'!$C$37 -> 4689.44 | D5: ='Dec 25'!$D$37 -> 18806.18
A7: INCOME
A8: Club Subscriptions | C8: 490.5
A9: Chipmunks | B9: 53
A10: Beavers | B10: 49
A11: Cubs | B11: 59.02
A12: Scouts & Explorers | B12: 60
A13: Events
A14: Hall Hire
A15: Party | B15: 60
A16: Arcu Fit | D16: 135
A17: Donations
A18: Adjustments
A19: Cash Banked
A20: EXPENDITURE
A21: Hall Expenses
A22: Scottish Power | C22: -2
A23: BoS Service Charges | D23: -4.25
A24: Maintainance
A25: Event Expenses
A26: Stock Purchases
A27: Tesco | B27: -9
A28: B&M | B28: -21
A29: Nisa | B29: -2.35
A30: Nisa | B30: -12.88
A31: Asda | B31: -4.82
A32: Sainsburys | B32: -15.7
A33: Morrisons | B33: -6
A34: Banked
A35: SUB-TOTALS
A36: Income | B36: =SUM(B8:B19) -> 281.02 | C36: =SUM(C8:C19) -> 490.5 | D36: =SUM(D8:D19) -> 135
A37: Expenditure | B37: =SUM(B21:B34) -> -71.75 | C37: =SUM(C21:C34) -> -2 | D37: =SUM(D21:D34) -> -4.25
A38: Difference | B38: =SUM(B36:B37) -> 209.27 | C38: =SUM(C36:C37) -> 488.5 | D38: =SUM(D36:D37) -> 130.75
A41: BALANCE CARRIED FORWARD | B41: =SUM(B38+B5) -> 969.83 | C41: =SUM(C38+C5) -> 5177.94 | D41: =SUM(D38+D5) -> 18936.93
A42: CASH RESERVE / MONTH

Sheet Feb 26
A2: 1st Elderslie Scout Troop - Financial Tracker
B3: February
B4: Cash Account | C4: BoS 25567365 | D4: BoS 26640766
A5: Balance B/F | B5: ='Jan 26'!$B$41 -> 969.83 | C5: ='Jan 26'!$C$41 -> 5177.94 | D5: ='Jan 26'!$D$41 -> 18936.93
A7: INCOME
A8: Club Subscriptions | C8: 468.5
A9: Chipmunks | B9: 12
A10: Beavers | B10: 20
A11: Cubs | B11: 58
A12: Scouts & Explorers | B12: 94.75
A13: Events
A14: Hall Hire
A15: Arcu Fit | D15: 420
A16: Party | B16: 75
A17: Donations
A18: Adjustments
A19: Cash Banked
A20: EXPENDITURE
A21: Renfrewshire District Scout Council
A22: Hall Expenses
A23: Scottish Power | C23: -2
A24: BT Group | C24: -36.27
A25: BoS Service Charges | C25: -2.71 | D25: -4.25
A26: Maintainance
A27: Wrights | B27: -55.49
A28: Saltire Drains | B28: -150
A29: Event Expenses
A30: Stock Purchases
A31: Aldi | B31: -17.85
A32: Sainsburys | B32: -10.22
A33: Glasgow Scout Shop | B33: -23.98
A34: Cash Banked
A35: SUB-TOTALS
A36: Income | B36: =SUM(B8:B19) -> 259.75 | C36: =SUM(C8:C19) -> 468.5 | D36: =SUM(D8:D19) -> 420
A37: Expenditure | B37: =SUM(B22:B34) -> -257.54 | C37: =SUM(C21:C34) -> -40.98 | D37: =SUM(D22:D34) -> -4.25
A38: Difference | B38: =SUM(B36:B37) -> 2.21 | C38: =SUM(C36:C37) -> 427.52 | D38: =SUM(D36:D37) -> 415.75
A39: Cash Banked
A41: BALANCE CARRIED FORWARD | B41: =SUM(B38+B5) -> 972.04 | C41: =SUM(C38+C5) -> 5605.46 | D41: =SUM(D38+D5) -> 19352.68
A42: CASH RESERVE / MONTH

Sheet March 26
A2: 1st Elderslie Scout Troop - Financial Tracker
B3: March
B4: Cash Account | C4: BoS 25567365 | D4: BoS 26640766
A5: Balance B/F | B5: ='Feb 26'!$B$41 -> 972.04 | C5: ='Feb 26'!$C$41 -> 5605.46 | D5: ='Feb 26'!$D$41 -> 19352.68
A7: INCOME
A8: Club Subscriptions | C8: 626.5
A9: Squirrels | B9: 38
A10: Beavers | B10: 75
A11: Cubs | B11: 49
A12: Scouts & Explorers | B12: 59
A13: Events
A14: Hall Hire
A15: Yoga | B15: 20
A16: Arcu Fit | D16: 420
A17: Donations
A18: Adjustments
A19: Cash Banked
A20: EXPENDITURE
A21: Hall Expenses
A22: Cleaner | B22: -120
A23: Scottish Power | C23: -2
A24: Scout Council | C24: -3885
A25: BoS Service Charges | D25: -4.25
A26: Maintenance
A27: Event Expenses
A28: Stock Purchases
A29: B&M | B29: -2.69
A30: Eilidh Taggart - Badges | C30: -80.1
A31: Asda | B31: -17.66
A32: First response training fee Ben McKellar | B32: -10
A33: Jims Food and Wine | B33: -5.73
A34: Tesco | B34: -10.09
A35: Jims Food and Wine | B35: -3.84
A36: Nisa | B36: -4.58
A37: Tesco | B37: -3.74
A38: Jims Food and Wine | B38: -7.75
A39: Nisa | B39: -7.27
A40: Cash Banked
A41: SUB-TOTALS
A42: Income | B42: =SUM(B8:B19) -> 241 | C42: =SUM(C8:C19) -> 626.5 | D42: =SUM(D8:D18) -> 420
...
