Workbook

Sheet Statement +BS
A1: STATEMENT OF FINANCIAL ACTIVITIES FOR THE YEAR ENDED 18 MARCH 2025
B4: Note | C4: Unrestricted Funds £ | D4: Restricted Funds £ | E4: Total 2025 | G4: Total 2024
A5: Income and Endowments from:
A6: Donations and Legacies | B6: 3 | C6: =Notes!C10+Notes!C7 -> 2372.37 | D6: =Notes!D12 -> 30914 | E6: =SUM(C6:D6) -> 33286.37 | G6: 77754
A7: Other Income | B7: 4 | C7: =Notes!C21 -> 43060.48 | E7: =SUM(C7:D7) -> 43060.48 | G7: 20525
A8: Total Income | C8: =SUM(C6:C7) -> 45432.85 | D8: =SUM(D6:D7) -> 30914 | E8: =SUM(E6:E7) -> 76346.85 | G8: =SUM(G6:G7) -> 98279
A10: Expenditure on:
A11: Charitable Activities | B11: 15 | C11: =Notes!C30 -> 72125.41 | D11: =Notes!D30 -> 30036.63 | E11: =SUM(C11:D11) -> 102162.04 | G11: 56107
A12: Total Expenditure | C12: =C11 -> 72125.41 | D12: =D11 -> 30036.63 | E12: =SUM(C12:D12) -> 102162.04 | G12: =G11 -> 56107
A14: Net Income | C14: =C8-C12 -> -26692.56 | D14: =D8-D12 -> 877.37 | E14: =E8-E12 -> -25815.19 | G14: =G8-G12 -> 42172
A16: Transfer between Funds | E16: =SUM(C16:D16) -> 0 | G16: 0
A18: Net movement between funds | C18: =C14+C16 -> -26692.56 | D18: =D14+D16 -> 877.37 | E18: =E14+E16 -> -25815.19 | G18: =G14+G16 -> 42172
A20: Reconciliation of funds
A21: Total Funds Brought Forward | C21: 8679 | D21: 444296 | E21: =SUM(C21:D21) -> 452975 | G21: 410803
A22: Total Funds Carried Forward | C22: =C18+C21 -> -18013.56 | D22: =D18+D21 -> 445173.37 | E22: =E18+E21 -> 427159.81 | G22: =E21 -> 452975
A25: BALANCE SHEET AS AT 18 MARCH 2025
B27: Note | C27: 2025 £ | D27: 2024 £
A28: Fixed Assets
A29: Tangible Assets | B29: 12 | C29: =Notes!D106 -> 403197.25 | D29: 404263
A31: Current Assets
A32: Cash at Bank and in Hand | B32: 13 | C32: =Notes!B113 -> 23962.78 | D32: 48712
A34: Net Current Assets/(Liabilities) | C34: =C32 -> 23962.78 | D34: =D32 -> 48712
A36: Net Assets | C36: =C29+C34 -> 427160.03 | D36: =D29+D34 -> 452975
A38: Funds of the Charity
A39: Restricted Income Funds
A40: Restricted Funds | C40: =D22 -> 445173.37 | D40: =D21 -> 444296
A42: Unrestricted Income Funds
A43: Unrestricted Funds | C43: =C22 -> -18013.56 | D43: =C21 -> 8679
A45: Total Funds | B45: 15 | C45: =C40+C43 -> 427159.81 | D45: =D40+D43 -> 452975

Sheet Notes
A1: NOTES TO THE FINANCIAL STATEMENTS FOR THE YEAR ENDED 18 MARCH 2025
A3: 3 | B3: Income from Donations and Legacies
C5: Unrestricted Funds General £ | D5: Restricted Funds £ | E5: Total 2025 £ | F5: Total 2024 £
A6: Donations and Legacies
A7: Donations from companies, trusts and similar proceeds | C7: =Vouchers!B26 -> 300 | D7: ='Bank Income'!F210 -> 0 | E7: =SUM(C7:D7) -> 300 | F7: 0
A9: Grants including capital grants
A10: Government Grants | C10: ='Bank Income'!G210 -> 2072.37 | D10: ='Bank Income'!H210 -> 5914 | E10: =SUM(C10:D10) -> 7986.37 | F10: 19054
A11: Grants from other charities | C11: ='Bank Income'!I210 -> 0 | D11: ='Bank Income'!J210 -> 25000 | E11: =SUM(C11:D11) -> 25000 | F11: 58700
C12: =SUM(C7:C11) -> 2372.37 | D12: =SUM(D7:D11) -> 30914 | E12: =SUM(E7:E11) -> 33286.37 | F12: =SUM(F10:F11) -> 77754
A15: 4 | B15: Other Income
C16: Unrestricted Funds General £ | D16: Total 2025 £ | E16: Total 2024 £
A17: Feed In Tariff | C17: ='Bank Income'!K210 -> 979.2 | D17: =C17 -> 979.2 | E17: 243
A18: Rental Income | C18: ='Bank Income'!L210 -> 36119.67 | D18: =C18 -> 36119.67 | E18: 11142
A19: Events | C19: ='Bank Income'!M210+'Cash Spend'!C78 -> 3447.32 | D19: =C19 -> 3447.32 | E19: 9140
A20: Other Income possibly food purchase | C20: ='Bank Income'!N210 -> 2514.29 | D20: =C20 -> 2514.29 | E20: 0
C21: =SUM(C17:C20) -> 43060.48 | D21: =SUM(D17:D20) -> 43060.48 | E21: =SUM(E17:E20) -> 20525
A24: 5 | B24: Expenditure on Charitable Activities
B26: Note | C26: Unrestricted Funds General £ | D26: Restricted Funds £ | E26: Total 2025 £ | F26: Total 2024 £
A27: Staff Costs | B27: 9 | C27: ='Bank Expenditure'!E271 -> 49840.42 | E27: =SUM(C27:D27) -> 49840.42 | F27: 35908
A28: Allocated Support Costs | B28: 6 | C28: =E36 -> 20124.99 | D28: ='Bank Expenditure'!M271+'Bank Expenditure'!N271+'Bank Expenditure'!P271+'Bank Expenditure'!Q271+'Bank Expenditure'!R271+'Bank Expenditure'!O271+'Cash Spend'!D78+'Cash Spend'!E78+'Cash Spend'!H78+'Cash Spend'!K78+Vouchers!B28+53 -> 30036.63 | E28: =SUM(C28:D28) -> 50161.62 | F28: 15399
A29: Governance Costs | B29: 6 | C29: ='Bank Expenditure'!K271 -> 2160 | E29: =SUM(C29:D29) -> 2160 | F29: 4800
C30: =SUM(C27:C29) -> 72125.41 | D30: =SUM(D27:D29) -> 30036.63 | E30: =SUM(E27:E29) -> 102162.04 | F30: =SUM(F27:F29) -> 56107
A32: 6 | B32: Analysis of goverence and support costs
A33: Support costs allocated to charitable activities
B35: Basis of Allocation | C35: Administration Costs £ | D35: Premises Costs inc Depreciation £ | E35: Total 2025 £ | F35: Total 2024 £
A36: Community Hub (Allocated Support Costs | B36: Cost | C36: ='Bank Expenditure'!G271+'Bank Expenditure'!I271+'Cash Spend'!F78+'Cash Spend'!I78+'Cash Spend'!J78+'Cash Spend'!L78+Vouchers!B29-53 -> 4825.39 | D36: =C101+'Bank Expenditure'!H271+'Bank Expenditure'!J271+'Cash Spend'!G78 -> 15299.6 | E36: =SUM(C36:D36) -> 20124.99 | F36: 15399
A38: Governance Costs | C38: Unrestricted Funds General £ | D38: Total 2025 £ | E38: Total 2024 £
A39: Audit Fees
A40: Audit of the Financial Statements
A41: Other Fees Paid to Examiners
A42: Independent Examiner Fees
A43: Examination of the financial Statements | C43: ='Bank Expenditure'!K271 -> 2160 | D43: =C43 -> 2160 | E43: 4800
A45: For restricted funds see note 15 for breakdown
A48: 7 | B48: Net incoming/outgoing resources
B49: Net incoming for the year include:
B51: 2025 £ | C51: 2024 £
A52: Audit Fees | B52: 0 | C52: 0
A55: 8 | B55: Trustees remuneration and expenses
A56: No trustees, nor any persons connected with them, have received any remuneration from the charity during the year
A57: No trustees have receiv ed any reimbursed expenses or any other benefits from the charity during the year
...

Sheet Bank Income
A1: INCOME
A3: DATE | B3: NAME | C3: REC | D3: TOTAL | E3: Donation Unrest | F3: Donation Rest | G3: Govern Grant Unrest | H3: Govern Grant Rest | I3: Other Grants Unrest | J3: Other Grants Rest | K3: Feed IN | L3: Rental | M3: Events | N3: Other Income | O3: Description
A4: 46103 | B4: PKC | C4: Yes | D4: =SUM(E4:N4) -> 182 | M4: 182
A5: 46103 | B5: Bank | D5: =SUM(E5:N5) -> 200 | L5: 200
A6: 46103 | B6: Thursday Friends | C6: Yes | D6: =SUM(E6:N6) -> 40 | L6: 40
A7: 46106 | B7: Square | D7: =SUM(E7:N7) -> 58.91 | N7: 58.91 | O7: Unsure of Breakdown
A8: 46107 | B8: Bioregioning Tayside | C8: yes | D8: =SUM(E8:N8) -> 48.75 | L8: 48.75
A9: 46108 | B9: Rural Transport | C9: Yes | D9: =SUM(E9:N9) -> 20 | L9: 20
A10: 46109 | B10: PKC | C10: Yes | D10: =SUM(E10:N10) -> 30 | L10: 30
A11: 46113 | B11: Ann Le Gal | C11: Yes | D11: =SUM(E11:N11) -> 75 | L11: 75
A12: 46114 | B12: PKC | C12: Yes | D12: =SUM(E12:N12) -> 30 | L12: 30
A13: 46114 | B13: Jeff Coull | D13: =SUM(E13:N13) -> 433 | L13: 433
A14: 46114 | B14: Square | D14: =SUM(E14:M14) -> 125.46 | M14: 125.46 | O14: Assuming Crafty Hands in March £127.50
A15: 46116 | B15: Bank | D15: =SUM(E15:N15) -> 200 | M15: 200 | O15: used for Community cooking classes
A16: 46123 | B16: Square | D16: =SUM(E16:N16) -> 11.3 | N16: 11.3
A17: 46127 | B17: Ann Le Gal | C17: yes | D17: =SUM(E17:N17) -> 15 | L17: 15
A18: 46129 | B18: Square | D18: =SUM(E18:N18) -> 0.49 | N18: 0.49
A19: 46130 | B19: Pay In | D19: =SUM(E19:N19) -> 200 | M19: 200 | O19: used for Community cooking classes
B20: Square | D20: =SUM(E20:N20) -> 9.81 | N20: 9.81
A21: 46131 | B21: Square | D21: =SUM(E21:N21) -> 11.79 | N21: 11.79
B22: Pay In | C22: yes | D22: =SUM(E22:N22) -> 220 | L22: 220
A23: 46136 | B23: Square | D23: =SUM(E23:N23) -> 0.98 | N23: 0.98
B24: Thursday Friends | D24: =SUM(E24:N24) -> 40 | L24: 40
A25: 46137 | B25: CAYAG | D25: =SUM(E25:N25) -> 115 | L25: 115
A26: 46138 | B26: Two Sisters | D26: =SUM(E26:N26) -> 600 | L26: 600
B27: Mach Recruitment | D27: =SUM(E27:N27) -> 195 | L27: 195
B28: Pay In | D28: =SUM(E28:N28) -> 200 | L28: 200
A29: 46144 | B29: Jeff Coull | D29: =SUM(E29:N29) -> 433 | L29: 433
B30: Alzheimer | C30: Yes | D30: =SUM(E30:N30) -> 60 | L30: 60
A31: 46145 | B31: Square | D31: =SUM(E31:N31) -> 17.69 | N31: 17.69
A32: 46149 | B32: Square | D32: =SUM(E32:N32) -> 112.99 | N32: 112.99
B33: Square | D33: =SUM(E33:N33) -> 0.98 | N33: 0.98
B34: PKC | C34: Yes | D34: =SUM(E34:N34) -> 30 | L34: 30
A35: 46151 | B35: Square | D35: =SUM(E35:N35) -> 6.39 | N35: 6.39
B36: Bank | D36: =SUM(E36:N36) -> 200 | L36: 200
A37: 46152 | B37: Square | D37: =SUM(E37:N37) -> 6.87 | N37: 6.87
A38: 46155 | B38: Gannochy | D38: =SUM(E38:N38) -> 25000 | J38: 25000 | O38: Gannochy
B39: square | D39: =SUM(E39:N39) -> 88.42 | N39: 88.42
B40: PKC | D40: =SUM(E40:N40) -> 856.74 | G40: 856.74 | O40: re Marc
A41: 46158 | B41: Square | D41: =SUM(E41:N41) -> 21.62 | N41: 21.62
...

Sheet Bank Expenditure
G1: =52.9-1.14 -> 51.76
A2: EXPENDITURE
M3: Grant | N3: Grant | O3: Grant | P3: Grant | Q3: Grant | R3: Grant
A4: DATE | B4: NAME | C4: REC | D4: TOTAL | E4: Salary | F4: Asset | G4: Office Exps | H4: Premises | I4: Event Costs | J4: Rental Costs | K4: Governence | L4: Other | M4: PKC Warm | N4: PKC Cinema | O4: PKC Lounge | P4: Gannochy | Q4: Mushroom | R4: Fridge | S4: Description
A5: 46100 | B5: High Speed Training CD | C5: Yes | D5: =SUM(E5:R5) -> 24 | G5: 24
A6: 46101 | B6: Talk Talk | D6: =SUM(E6:R6) -> 42.8 | G6: 42.8
A7: 46102 | B7: Tesco | D7: =SUM(E7:R7) -> 45.01 | I7: =2.61 -> 2.61 | M7: 8.83 | N7: 33.57
A8: 46109 | B8: Tesco | D8: =SUM(E8:R8) -> 53.14 | I8: =31.77+1.25 -> 33.02 | M8: 5.07 | N8: 15.05
B9: Cluff | D9: =SUM(E9:R9) -> 1133.55 | E9: 1133.55
B10: Dawson | D10: =SUM(E10:R10) -> 1706.27 | E10: 1706.27
B11: Flemming | D11: =SUM(E11:R11) -> 810.42 | E11: 810.42
B12: Angela | D12: =SUM(E12:R12) -> 75 | H12: 75 | S12: Cleaning
A13: 46114 | B13: Child Maint | D13: =SUM(E13:R13) -> 92.65 | E13: 92.65 | S13: Marc Flemming Wages deduction
A14: 46114 | B14: EDF | D14: =SUM(E14:R14) -> 319 | H14: 319
A15: 46114 | B15: TV Licence | D15: =SUM(E15:R15) -> 13.25 | N15: 13.25
A16: 46116 | B16: Asda | D16: =SUM(E16:R16) -> 52.29 | I16: =16.89+0.99+0.51 -> 18.39 | M16: 4.5 | N16: 29.4
A17: 46116 | B17: Nisbets | C17: yes | D17: =SUM(E17:R17) -> 353.66 | M17: 37.5 | N17: =14.99 -> 14.99 | P17: =23.74+124.47+15.99+136.97 -> 301.17
B18: Angela | C18: Yes | D18: =SUM(E18:R18) -> 65 | H18: 65
B19: Nisbets | C19: Yes | D19: =SUM(E19:R19) -> 294.34 | P19: 294.34 | S19: Freezer Repayment - spoke to Kirsty
A20: 46118 | B20: PKC Waste | C20: Yes | D20: =SUM(E20:R20) -> 166.5 | H20: 166.5
A21: 46122 | B21: Square Shop | D21: =SUM(E21:R21) -> 178.8 | N21: 178.8
B22: Café Reality | C22: yes | D22: =SUM(E22:R22) -> 2560.8 | P22: 2560.8 | S22: 44 Plywood Dining Chairs
A23: 46123 | B23: Nest - mar | C23: Yes | D23: =SUM(E23:R23) -> 262.5 | E23: 262.5
B24: Scotmid | D24: =SUM(E24:R24) -> 11.8 | N24: 11.8
B25: Film Bank | C25: Yes | D25: =SUM(E25:R25) -> 104.4 | N25: 104.4
B26: Film Bank | C26: Yes | D26: =SUM(E26:R26) -> 104.4 | N26: 104.4
A27: 46127 | B27: Co-an | C27: Yes | D27: =SUM(E27:R27) -> 128.57 | H27: 128.57
A28: 46130 | B28: Metroplan | C28: Yes | D28: =SUM(E28:R28) -> 421.2 | P28: 421.2 | S28: Noticeboard- need to find
B29: Asda | C29: Yes | D29: =SUM(E29:R29) -> 77.58 | I29: =0.31 -> 0.31 | N29: 77.27
A30: 46131 | B30: Talk Talk | D30: =SUM(E30:R30) -> 42.8 | G30: 42.8
B31: Angela | D31: =SUM(E31:R31) -> 160 | H31: 160
A32: 46136 | B32: Asda | C32: Yes | D32: =SUM(E32:R32) -> 51.1 | I32: 51.1
A33: 46137 | B33: HMRC | D33: =SUM(E33:R33) -> 2041.38 | E33: 2041.38 | S33: PAYE/NIC Payment
A34: 46141 | B34: Angela | D34: =SUM(E34:R34) -> 65 | H34: 65
B35: Marc Fleming | D35: =SUM(E35:R35) -> 810.42 | E35: 810.42
B36: Kirsty Cluff | D36: =SUM(E36:R36) -> 1143.84 | E36: 1143.84
B37: Graeme Dawson | D37: =SUM(E37:R37) -> 1726.97 | E37: 1726.97
B38: Film Bank | D38: =SUM(E38:R38) -> 104.4 | N38: 104.4
B39: Film Bank | D39: =SUM(E39:R39) -> 104.4 | N39: 104.4
B40: Child Maint | D40: =SUM(E40:R40) -> 92.65 | E40: 92.65
...

Sheet Bank Rec
A1: BANK RECONCILIATION
A4: Opening Balance as at 18 March 24 | B4: 48712.22
A6: Add Income | B6: ='Bank Income'!D210 -> 73312.33
A8: Deduct Expenditure | B8: ='Bank Expenditure'!D271 -> 98061.77
A10: Closing Balance as at 18 March 25 | B10: =B4+B6-B8 -> 23962.78
A13: Bank Statement as at 18 March 25 | B13: 23962.78

Sheet Cash Spend
A2: Date | B2: Description | C2: Total | D2: Warmspace | E2: CIF | F2: Hub | G2: Premises | H2: Gannochy | I2: Leaving Gift | J2: office | K2: mushroom | L2: bothy night
A3: 46101 | B3: Premier | C3: =SUM(D3:L3) -> 6.5 | F3: 6.5
B4: Scotmid | C4: =SUM(D4:L4) -> 3.1 | D4: 3.1
B5: Scotmid | C5: =SUM(D5:L5) -> 5 | D5: 5
B6: Tesco | C6: =SUM(D6:L6) -> 7.17 | E6: 7.17
B7: EOS | C7: =SUM(D7:L7) -> 8.98 | E7: 8.98
B8: Expenses | C8: =SUM(D8:L8) -> 83.08 | D8: =4 -> 4 | F8: =6+4+6+17.1+45.98 -> 79.08
B9: Expenses | C9: =SUM(D9:L9) -> 32.75 | E9: 21.79 | F9: 10.96
B10: Expenses | C10: =SUM(D10:L10) -> 109.72 | D10: =12.59+9.99 -> 22.58 | E10: =5 -> 5 | F10: =14.99+14.99 -> 29.98 | G10: =27.98 -> 27.98 | H10: =15.19+8.99 -> 24.18
B11: Co-op | C11: =SUM(D11:L11) -> 1.9 | D11: 1.9
B12: Dunelm | C12: =SUM(D12:L12) -> 20 | F12: 20
B13: Food Warehouse | C13: =SUM(D13:L13) -> 12.5 | F13: 12.5
B14: Home Bargains | C14: =SUM(D14:L14) -> 4.78 | E14: 4.78
B15: Co-op | C15: =SUM(D15:L15) -> 0.13 | F15: 0.13
B16: Co-op | C16: =SUM(D16:L16) -> 2.4 | F16: 2.4
B17: Window Cleaner | C17: =SUM(D17:L17) -> 50 | G17: 50
B18: Scotmid | C18: =SUM(D18:L18) -> 3.2 | F18: 3.2
B19: Scotmid | C19: =SUM(D19:L19) -> 3.35 | F19: 3.35
B20: Scotmid | C20: =SUM(D20:L20) -> 6.4 | F20: 6.4
B21: Scotmid | C21: =SUM(D21:L21) -> 3.3 | D21: 3.3
B22: Scotmid | C22: =SUM(D22:L22) -> 1.1 | D22: 1.1
B23: Meat | C23: =SUM(D23:L23) -> 24 | F23: 24
B24: Meat | C24: =SUM(D24:L24) -> 15 | F24: 15
B25: Expenses | C25: =SUM(D25:L25) -> 7.17 | E25: 7.17
B26: Scotmid | C26: =SUM(D26:L26) -> 2.5 | F26: 2.5
B27: Meat | C27: =SUM(D27:L27) -> 6 | F27: 6
B28: Scotmid | C28: =SUM(D28:L28) -> 5.25 | F28: 5.25
B29: Amazon | C29: =SUM(D29:L29) -> 14.99 | D29: 14.99
B30: John Lewis | C30: =SUM(D30:L30) -> 50 | I30: 50
B31: Meat | C31: =SUM(D31:L31) -> 8 | F31: 8
B32: asda | C32: =SUM(D32:L32) -> 12.5 | G32: 12.5
B33: Scotmid | C33: =SUM(D33:L33) -> 4.09 | D33: 4.09
B34: Home Improv | C34: =SUM(D34:L34) -> 3.99 | G34: 3.99
B35: Tesco | C35: =SUM(D35:L35) -> 17 | G35: 17
B36: Premier | C36: =SUM(D36:L36) -> 1.7 | F36: 1.7
B37: Scotmid | C37: =SUM(D37:L37) -> 3.44 | F37: 3.44
B38: Window Cleaner | C38: =SUM(D38:L38) -> 50 | G38: 50
B39: Amazon | C39: =SUM(D39:L39) -> 9.99 | E39: 9.99
B40: Scotmid | C40: =SUM(D40:L40) -> 0.8 | F40: 0.8
B41: Scotmid | C41: =SUM(D41:L41) -> 2.14 | F41: 2.14
...

Sheet Vouchers
A1: VOUCHERS
A3: Co-op | B3: 20 | C3: WW
B4: 15 | C4: Hub
B5: 5 | C5: Hub
B6: 10 | C6: Hub
B7: 5 | C7: Hub
B8: 10 | C8: ww
B9: 10 | C9: ww
B10: 10 | C10: Hub
B11: 5 | C11: Hub
B12: 15 | C12: ww
B13: 10 | C13: Hub
B14: 5 | C14: Hub
B15: 5 | C15: Hub
... B24: 35 | C24: ww
B26: =SUM(B3:B24) -> 300
A28: ww | B28: =B3+B8+B9+B12+B17+B22+B23+B24 -> 145 | C28: ww
A29: hub | B29: =B4+B5+B6+B7+B10+B11+B13+B14+B15+B16+B18+B19+B20+B21 -> 155 | C29: hub
B30: =SUM(B28:B29) -> 300

Sheet wages
A2: Name Kirsty Cluff
B3: March | C3: April | D3: May | E3: June | F3: July | G3: August | H3: September | I3: October | J3: November | K3: December | L3: January | M3: February | N3: Total
A4: Basic | C4: 1562.5 | D4: 1562.5 | E4: 1562.5 | F4: 1562.5 | G4: 1562.5 | H4: 1562.5 | I4: 1562.5 | J4: 2296.67 | K4: 2296.67 | L4: 2296.87 | M4: 2296.87 | N4: =SUM(B4:M4) -> 20124.58
A5: Tax | C5: 315 | D5: 315 | E5: 315 | F5: 315 | G5: 315 | H5: 315 | I5: 315 | J5: 463.05 | K5: 463.05 | L5: 463.05 | M5: 482.37 | N5: =SUM(B5:M5) -> 4076.52
A6: NI EE | C6: 41.16 | D6: 41.16 | E6: 41.16 | F6: 41.16 | G6: 41.16 | H6: 41.16 | I6: 41.16 | J6: 99.89 | K6: 99.89 | L6: 99.91 | M6: 99.91 | N6: =SUM(B6:M6) -> 687.72
A7: Pension EE | B7: 62.5 | C7: 62.5 | D7: 62.5 | E7: 62.5 | F7: 62.5 | G7: 62.5 | H7: 62.5 | I7: 62.5 | J7: 91.87 | K7: 91.87 | L7: 91.87 | N7: =SUM(B7:M7) -> 775.61
A8: other Deductions | N8: =SUM(B8:M8) -> 0
A9: Nett paid | B9: =B4-B5-B6-B7-B8 -> -62.5 | C9: =C4-C5-C6-C7-C8 -> 1143.84 | D9: =D4-D5-D6-D7-D8 -> 1143.84 | E9: =E4-E5-E6-E7-E8 -> 1143.84 | F9: =F4-F5-F6-F7-F8 -> 1143.84 | G9: =G4-G5-G6-G7-G8 -> 1143.84 | H9: =H4-H5-H6-H7-H8 -> 1143.84 | I9: =I4-I5-I6-I7-I8 -> 1143.84 | ... N9: =N4-N5-N6-N7-N8 -> 14584.73
A10: NI Ers | N10: =SUM(B10:M10) -> 0
A11: Pension Ers | B11: 46.88 | C11: 46.88 | D11: 46.88 | E11: 46.88 | F11: 46.88 | G11: 46.88 | H11: 46.88 | I11: 46.88 | J11: 68.9 | K11: 68.9 | L11: 68.9 | M11: 68.9 | N11: =SUM(B11:M11) -> 650.64
C14: =B7 -> 62.5 | D14: =C14*5 -> 312.5
A16: Name Graeme Dawson
B17: March | C17: April | D17: May | E17: June | F17: July | G17: August | H17: September | I17: October | J17: November | K17: December | L17: January | M17: February | N17: Total
A18: Basic | B18: 2187.5 | C18: 2187.5 | D18: 2187.5 | E18: 2187.5 | F18: 2187.5 | G18: 2187.5 | H18: 2187.5 | N18: =SUM(B18:M18) -> 15312.5
A19: Tax | N19: =SUM(B19:M19) -> 0
A20: NI EE | N20: =SUM(B20:M20) -> 0
A21: Pension EE | B21: 87.5 | C21: 87.5 | D21: 87.5 | E21: 87.5 | F21: 87.5 | G21: 87.5 | H21: 87.5 | I21: 50 | N21: =SUM(B21:M21) -> 662.5
A22: other Deductions | N22: =SUM(B22:M22) -> 0
A23: Nett paid | B23: =B18-B19-B20-B21-B22 -> 2100 | C23: =C18-C19-C20-C21-C22 -> 2100 | D23: =D18-D19-D20-D21-D22 -> 2100 | E23: =E18-E19-E20-E21-E22 -> 2100 | F23: =F18-F19-F20-F21-F22 -> 2100 | G23: =G18-G19-G20-G21-G22 -> 2100 | H23: =H18-H19-H20-H21-H22 -> 2100 | I23: =I18-I19-I20-I21-I22 -> -50 | ... M23: =M18-M19-M20-M21-M22 -> 0 | N23: =SUM(B23:M23) -> 14650
A24: NI Ers | N24: =SUM(B24:M24) -> 0
A25: Pension Ers | B25: 65.62 | C25: 65.62 | D25: 65.62 | E25: 65.62 | F25: 65.62 | G25: 65.62 | H25: 65.62 | I25: 37.5 | N25: =SUM(B25:M25) -> 496.84
B27: =B21+B25 -> 153.12 | C27: =B27*12 -> 1837.44 | D27: =C27+D14 -> 2149.94
A29: Name Marc Fleming
B30: March | C30: April | D30: May | E30: June | F30: July | G30: August | H30: September | I30: October | J30: November | K30: December | L30: January | M30: February | N30: Total
A31: Basic | C31: 810.42 | D31: 810.84 | E31: 677.3 | F31: 810.84 | G31: 810.84 | H31: 810.62 | I31: 810.62 | J31: 1182.6 | K31: =740.79+2.81 -> 743.6 | L31: 746.41 | M31: 746.41 | N31: =SUM(B31:M31) -> 8960.5
A32: Tax | J32: 26.8 | N32: =SUM(B32:M32) -> 26.8
A33: NI EE | J33: 10.77 | N33: =SUM(B33:M33) -> 10.77
A34: Pension EE | N34: =SUM(B34:M34) -> 0
A35: other Deductions | N35: =SUM(B35:M35) -> 0
A36: Nett paid | B36: =B31-B32-B33-B34-B35 -> 0 | C36: =C31-C32-C33-C34-C35 -> 810.42 | D36: =D31-D32-D33-D34-D35 -> 810.84 | E36: =E31-E32-E33-E34-E35 -> 677.3 | F36: =F31-F32-F33-F34-F35 -> 810.84 | G36: =G31-G32-G33-G34-G35 -> 810.84 | H36: =H31-H32-H33-H34-H35 -> 810.62 | I36: =I31-I32-I33-I34-I35 -> 810.62 | ... M36: =M31-M32-M33-M34-M35 -> 746.41 | N36: =SUM(B36:M36) -> 8922.93
A37: NI Ers | N37: =SUM(B37:M37) -> 0
A38: Pension Ers | N38: =SUM(B38:M38) -> 0
A40: Name Michelle Cowburn
B41: March | C41: April | D41: May | E41: June | F41: July | G41: August | H41: September | I41: October | J41: November | K41: December | L41: January | M41: February | N41: Total
A42: Basic | M42: 262.16 | N42: =SUM(B42:M42) -> 262.16
A43: Tax | M43: 52.4 | N43: =SUM(B43:M43) -> 52.4
A44: NI EE | N44: =SUM(B44:M44) -> 0
A45: Pension EE | N45: =SUM(B45:M45) -> 0
A46: other Deductions | N46: =SUM(B46:M46) -> 0
A47: Nett paid | B47: =B42-B43-B44-B45-B46 -> 0 | C47: =C42-C43-C44-C45-C46 -> 0 | D47: =D42-D43-D44-D45-D46 -> 0 | E47: =E42-E43-E44-E45-E46 -> 0 | F47: =F42-F43-F44-F45-F46 -> 0 | G47: =G42-G43-G44-G45-G46 -> 0 | H47: =H42-H43-H44-H45-H46 -> 0 | I47: =I42-I43-I44-I45-I46 -> 0 | ... M47: =M42-M43-M44-M45-M46 -> 209.76 | N47: =SUM(B47:M47) -> 209.76
...
